BEGIN:VCALENDAR
VERSION:2.0
PRODID:-//Tree-Hive - ECPv6.3.1//NONSGML v1.0//EN
CALSCALE:GREGORIAN
METHOD:PUBLISH
X-ORIGINAL-URL:https://tree-hive.be
X-WR-CALDESC:Evenementen voor Tree-Hive
REFRESH-INTERVAL;VALUE=DURATION:PT1H
X-Robots-Tag:noindex
X-PUBLISHED-TTL:PT1H
BEGIN:VTIMEZONE
TZID:Europe/Brussels
BEGIN:DAYLIGHT
TZOFFSETFROM:+0100
TZOFFSETTO:+0200
TZNAME:CEST
DTSTART:20260329T010000
END:DAYLIGHT
BEGIN:STANDARD
TZOFFSETFROM:+0200
TZOFFSETTO:+0100
TZNAME:CET
DTSTART:20261025T010000
END:STANDARD
END:VTIMEZONE
BEGIN:VEVENT
DTSTART;TZID=Europe/Brussels:20260322T130000
DTEND;TZID=Europe/Brussels:20260322T163000
DTSTAMP:20260420T161631
CREATED:20240219T204355Z
LAST-MODIFIED:20260201T224456Z
UID:7678-1774184400-1774197000@tree-hive.be
SUMMARY:Haagdichten in Diest
DESCRIPTION:Haagdichten Vlechten\, twijnen\, knikken\, buigen\nVooraleer weides werden afgeboord met prikkeldraad of akkers werden afgeschermd\, maakten landbouwers gebruik van heggen. Deze werden op allerlei manier gevlochten\, gelegd\, geleid\, geknikt\, gebogen of getuynd ten einde ze ondoordringbaar te maken voor grazers of rovers allerhande. Bovendien boden ze leefgebied aan heel wat dieren en planten\, gaande van oud bosplanten tot struweelbroeders\, bijzondere vlinders en wilde bijen. \nTijdens deze opleiding haagdichten reiken we verschillende technieken aan om jullie toolbox te vullen. Deze toolbox kan je gebruiken om naargelang de situatie\, functie van de haag en persoonlijke voorkeur en smaak zelf aan de slag te gaan en je haag te verdichten. Bovendien vormen traditionele technieken vaak een inspiratiebron om een heggenlandschap opnieuw in te kleden en op een andere\, meer duurzame manier te beheren. Het kleinschalig bocagelandschap krijgt zo opnieuw de uitstraling die ze verdient. Verder biedt haagdichten een prima alternatief voor de courante geschoren hagen in natuurvriendelijke tuinen of rondom erven en hoogstamboomgaarden. Zo kan je je creativiteit als tuinier of groenbeheerder volop kwijt! \nOp locatie in Kaggevinne\, Diest op zondagnamiddag 22 maart 2026: 13u-16u30. \nPraktijk. Het betreft een jonge gemengde haag\, welke reeds 4 vlechtbeurten gehad heeft. Je zal de reactiegroei kunnen observeren van de voorbije jaren en aan de slag met de reactiegroei van afgelopen jaar.\nVolgende technieken komen aan bod: vlechten\, twijnen\, buigen en knikken. \nMeenemen indien je dit hebt: veiligheidsbril\, knielappen\, snoeizaagje/schaar (er wordt ook zaagjes en scharen voorzien!)\,\ndrinkbus\, stevige werkhandschoenen (doornstruweel!)\, warme en regenbestendige kleding\, muts/ hoofddeksel en veel goesting! \nInschrijvingen via regionaal landschap noord hageland\, via deze link. \nVragen of info nodig via paulien@tree-hive.be
URL:https://tree-hive.be/event/opleiding-haagdichten__2-03-24/
CATEGORIES:Haagdichten
END:VEVENT
END:VCALENDAR